BEGIN:VCALENDAR
PRODID:-//github.com/ical-org/ical.net//NONSGML ical.net 5.2.0//EN
VERSION:2.0
BEGIN:VEVENT
CLASS:PUBLIC
CREATED:20260425T152650Z
DESCRIPTION:Feuerwehr Illnau-Effretikon/Lindau
DTEND:20260519T200000Z
DTSTAMP:20260425T152650Z
DTSTART:20260519T170000Z
LOCATION:Feuerwehrlokal Effretikon
SEQUENCE:0
SUMMARY:2 Abendübung (ADL und SRT-Gruppe)
UID:b7c2fdba-2dbd-4e80-b3f0-d5463be60446
END:VEVENT
BEGIN:VEVENT
CLASS:PUBLIC
CREATED:20260425T152650Z
DESCRIPTION:Feuerwehr Illnau-Effretikon/Lindau
DTEND:20261020T200000Z
DTSTAMP:20260425T152650Z
DTSTART:20261020T170000Z
LOCATION:Feuerwehrlokal Effretikon
SEQUENCE:0
SUMMARY:4 Abendübung (ADL und SRT-Gruppe)
UID:6f844baf-2059-4918-975b-615bb0184146
END:VEVENT
END:VCALENDAR
