BEGIN:VCALENDAR
PRODID:-//github.com/ical-org/ical.net//NONSGML ical.net 5.2.0//EN
VERSION:2.0
BEGIN:VEVENT
CLASS:PUBLIC
CREATED:20260425T152559Z
DESCRIPTION:Feuerwehr Illnau-Effretikon/Lindau
DTEND:20260904T200000Z
DTSTAMP:20260425T152559Z
DTSTART:20260904T170000Z
LOCATION:Feuerwehrlokal Effretikon
SEQUENCE:0
SUMMARY:3 Abendübung (ADL-Gruppe 1)
UID:02f78c95-86b1-4f7e-9c7e-518639174adb
END:VEVENT
END:VCALENDAR
