BEGIN:VCALENDAR
PRODID:-//github.com/ical-org/ical.net//NONSGML ical.net 5.2.0//EN
VERSION:2.0
BEGIN:VEVENT
CLASS:PUBLIC
CREATED:20260425T152456Z
DESCRIPTION:Feuerwehr Illnau-Effretikon/Lindau
DTEND:20260910T200000Z
DTSTAMP:20260425T152456Z
DTSTART:20260910T170000Z
LOCATION:Feuerwehrlokal Effretikon
SEQUENCE:0
SUMMARY:3 Abendübung (ADL-Gruppe 2)
UID:3961da32-bbc6-478d-ab6a-2bdfdb74a529
END:VEVENT
END:VCALENDAR
