BEGIN:VCALENDAR
PRODID:-//github.com/ical-org/ical.net//NONSGML ical.net 5.2.0//EN
VERSION:2.0
BEGIN:VEVENT
CLASS:PUBLIC
CREATED:20260425T152038Z
DESCRIPTION:Feuerwehr Illnau-Effretikon/Lindau
DTEND:20260613T150000Z
DTSTAMP:20260425T152038Z
DTSTART:20260613T053000Z
LOCATION:Feuerwehrlokal Effretikon
SEQUENCE:0
SUMMARY:Wander / Töff / Velo-Ausflug (Alle)
UID:1cd20457-b6f6-4931-a109-9f8eb80ba1e4
END:VEVENT
BEGIN:VEVENT
CLASS:PUBLIC
CREATED:20260425T152038Z
DESCRIPTION:Feuerwehr Illnau-Effretikon/Lindau
DTEND:20260704T150000Z
DTSTAMP:20260425T152038Z
DTSTART:20260704T110000Z
LOCATION:Feuerwehrlokal Effretikon
SEQUENCE:0
SUMMARY:4 Hauptübung - Übung Surprise (ganze FW) (Alle)
UID:dc14affc-fda0-43fb-a598-fc59e589a67c
END:VEVENT
BEGIN:VEVENT
CLASS:PUBLIC
CREATED:20260425T152038Z
DESCRIPTION:Feuerwehr Illnau-Effretikon/Lindau
DTEND:20260829T200000Z
DTSTAMP:20260425T152038Z
DTSTART:20260829T130000Z
LOCATION:Feuerwehrlokal Effretikon
SEQUENCE:0
SUMMARY:Familien-Sommer-Fest (Alle)
UID:7347e641-8f32-4d00-a59d-1c651bce7c2f
END:VEVENT
BEGIN:VEVENT
CLASS:PUBLIC
CREATED:20260425T152038Z
DESCRIPTION:Feuerwehr Illnau-Effretikon/Lindau
DTEND:20260919T150000Z
DTSTAMP:20260425T152038Z
DTSTART:20260919T053000Z
LOCATION:Feuerwehrlokal Effretikon
SEQUENCE:0
SUMMARY:Wander / Töff / Velo-Ausflug (Alle)
UID:ce40d249-2811-4cc3-8889-29d33261cb63
END:VEVENT
BEGIN:VEVENT
CLASS:PUBLIC
CREATED:20260425T152038Z
DESCRIPTION:Feuerwehr Illnau-Effretikon/Lindau
DTEND:20260926T120000Z
DTSTAMP:20260425T152038Z
DTSTART:20260926T053000Z
LOCATION:Feuerwehrlokal Effretikon
SEQUENCE:0
SUMMARY:Finnentest (Alle)
UID:89f341ee-16bd-4f94-8654-65d89d895231
END:VEVENT
BEGIN:VEVENT
CLASS:PUBLIC
CREATED:20260425T152038Z
DESCRIPTION:Feuerwehr Illnau-Effretikon/Lindau
DTEND:20261212T210000Z
DTSTAMP:20260425T152038Z
DTSTART:20261212T173000Z
LOCATION:Feuerwehrlokal Effretikon
SEQUENCE:0
SUMMARY:FW Abend (Alle)
UID:85e67475-3dc6-4e17-9394-1007c5900272
END:VEVENT
END:VCALENDAR
