BEGIN:VCALENDAR
PRODID:-//github.com/ical-org/ical.net//NONSGML ical.net 5.2.0//EN
VERSION:2.0
BEGIN:VEVENT
CLASS:PUBLIC
CREATED:20260425T152731Z
DESCRIPTION:Feuerwehr Illnau-Effretikon/Lindau
DTEND:20260817T173000Z
DTSTAMP:20260425T152731Z
DTSTART:20260817T153000Z
LOCATION:Feuerwehrlokal Effretikon
SEQUENCE:0
SUMMARY:Abspracherapport GC MWD (Chef Bewegungsfahrt)
UID:5ac762c6-ee2d-490b-89d3-1b4375406aee
END:VEVENT
BEGIN:VEVENT
CLASS:PUBLIC
CREATED:20260425T152731Z
DESCRIPTION:Feuerwehr Illnau-Effretikon/Lindau
DTEND:20261130T183000Z
DTSTAMP:20260425T152731Z
DTSTART:20261130T163000Z
LOCATION:Feuerwehrlokal Effretikon
SEQUENCE:0
SUMMARY:Absprache Ausbildungen Fahrer 2027 (Chef Bewegungsfahrt)
UID:817974e8-d9d8-4a0a-80e9-18668ef39166
END:VEVENT
END:VCALENDAR
