BEGIN:VCALENDAR
PRODID:-//github.com/ical-org/ical.net//NONSGML ical.net 5.2.0//EN
VERSION:2.0
BEGIN:VEVENT
CLASS:PUBLIC
CREATED:20260425T153059Z
DESCRIPTION:Feuerwehr Illnau-Effretikon/Lindau
DTEND:20260519T200000Z
DTSTAMP:20260425T153059Z
DTSTART:20260519T173000Z
LOCATION:Feuerwehrlokal Effretikon
SEQUENCE:0
SUMMARY:5 Gemäss Gruppenchef (Führungsunterstützung)
UID:77f7b9ef-3bd6-456d-b180-59bd529d7e3f
END:VEVENT
BEGIN:VEVENT
CLASS:PUBLIC
CREATED:20260425T153059Z
DESCRIPTION:Feuerwehr Illnau-Effretikon/Lindau
DTEND:20260622T200000Z
DTSTAMP:20260425T153059Z
DTSTART:20260622T173000Z
LOCATION:Feuerwehrlokal Effretikon
SEQUENCE:0
SUMMARY:6 «PBU» Übungen  (Führungsunterstützung)
UID:8394fc14-348b-4651-9707-bb0d5fb858d5
END:VEVENT
BEGIN:VEVENT
CLASS:PUBLIC
CREATED:20260425T153059Z
DESCRIPTION:Feuerwehr Illnau-Effretikon/Lindau
DTEND:20260624T200000Z
DTSTAMP:20260425T153059Z
DTSTART:20260624T173000Z
LOCATION:Feuerwehrlokal Effretikon
SEQUENCE:0
SUMMARY:6 «PBU» Übungen  (Führungsunterstützung)
UID:d3684074-5b76-4f71-b8c9-6cae5eaca4a3
END:VEVENT
BEGIN:VEVENT
CLASS:PUBLIC
CREATED:20260425T153059Z
DESCRIPTION:Feuerwehr Illnau-Effretikon/Lindau
DTEND:20260630T200000Z
DTSTAMP:20260425T153059Z
DTSTART:20260630T173000Z
LOCATION:Feuerwehrlokal Effretikon
SEQUENCE:0
SUMMARY:6 «PBU» Übungen  (Führungsunterstützung)
UID:7ca4c2f8-1bb8-4b9f-8a0f-0f8de9a42e13
END:VEVENT
BEGIN:VEVENT
CLASS:PUBLIC
CREATED:20260425T153059Z
DESCRIPTION:Feuerwehr Illnau-Effretikon/Lindau
DTEND:20260818T200000Z
DTSTAMP:20260425T153059Z
DTSTART:20260818T173000Z
LOCATION:Feuerwehrlokal Effretikon
SEQUENCE:0
SUMMARY:8 FU Duale Führung (Führungsunterstützung)
UID:d82df738-a77c-4ba6-b88c-c6c660623095
END:VEVENT
BEGIN:VEVENT
CLASS:PUBLIC
CREATED:20260425T153059Z
DESCRIPTION:Feuerwehr Illnau-Effretikon/Lindau
DTEND:20260910T200000Z
DTSTAMP:20260425T153059Z
DTSTART:20260910T173000Z
LOCATION:Feuerwehrlokal Effretikon
SEQUENCE:0
SUMMARY:9 gemäss Gruppenchef (Führungsunterstützung)
UID:362bfa3d-ba23-40f1-9321-d9da58a06df5
END:VEVENT
BEGIN:VEVENT
CLASS:PUBLIC
CREATED:20260425T153059Z
DESCRIPTION:Feuerwehr Illnau-Effretikon/Lindau
DTEND:20261124T210000Z
DTSTAMP:20260425T153059Z
DTSTART:20261124T183000Z
LOCATION:Feuerwehrlokal Effretikon
SEQUENCE:0
SUMMARY:10 Jahresbilanz und Besprechung (Führungsunterstützung)
UID:b810721d-47b9-4f6f-96e0-b91b6907f173
END:VEVENT
END:VCALENDAR
