BEGIN:VCALENDAR
PRODID:-//github.com/ical-org/ical.net//NONSGML ical.net 5.2.0//EN
VERSION:2.0
BEGIN:VEVENT
CLASS:PUBLIC
CREATED:20260425T153237Z
DESCRIPTION:Feuerwehr Illnau-Effretikon/Lindau
DTEND:20260603T200000Z
DTSTAMP:20260425T153237Z
DTSTART:20260603T170000Z
LOCATION:Feuerwehrlokal Effretikon
SEQUENCE:0
SUMMARY:Bewegungsfahrt Gruppe 1 (Fahrer und Maschinisten)
UID:3b21fd21-6162-4c14-b1e8-95ebd7134473
END:VEVENT
BEGIN:VEVENT
CLASS:PUBLIC
CREATED:20260425T153237Z
DESCRIPTION:Feuerwehr Illnau-Effretikon/Lindau
DTEND:20260605T200000Z
DTSTAMP:20260425T153237Z
DTSTART:20260605T170000Z
LOCATION:Feuerwehrlokal Effretikon
SEQUENCE:0
SUMMARY:Bewegungsfahrt Gruppe 2 (Fahrer und Maschinisten)
UID:31381cc6-0e2e-42f1-a712-c7945cd38f11
END:VEVENT
BEGIN:VEVENT
CLASS:PUBLIC
CREATED:20260425T153237Z
DESCRIPTION:Feuerwehr Illnau-Effretikon/Lindau
DTEND:20260615T200000Z
DTSTAMP:20260425T153237Z
DTSTART:20260615T170000Z
LOCATION:Feuerwehrlokal Effretikon
SEQUENCE:0
SUMMARY:Bewegungsfahrt Gruppe 3 (Fahrer und Maschinisten)
UID:950d19fb-4539-4f16-8d12-858b942ea54b
END:VEVENT
BEGIN:VEVENT
CLASS:PUBLIC
CREATED:20260425T153237Z
DESCRIPTION:Feuerwehr Illnau-Effretikon/Lindau
DTEND:20260619T200000Z
DTSTAMP:20260425T153237Z
DTSTART:20260619T170000Z
LOCATION:Feuerwehrlokal Effretikon
SEQUENCE:0
SUMMARY:Bewegungsfahrt Gruppe 4 (Fahrer und Maschinisten)
UID:7940fffc-8370-4723-8703-0891174cd1b9
END:VEVENT
BEGIN:VEVENT
CLASS:PUBLIC
CREATED:20260425T153237Z
DESCRIPTION:Feuerwehr Illnau-Effretikon/Lindau
DTEND:20260901T200000Z
DTSTAMP:20260425T153237Z
DTSTART:20260901T170000Z
LOCATION:Feuerwehrlokal Effretikon
SEQUENCE:0
SUMMARY:Bewegungsfahrt Gruppe 1 (Fahrer und Maschinisten)
UID:c37e0f30-02b7-45f0-a201-61c2e1b75966
END:VEVENT
BEGIN:VEVENT
CLASS:PUBLIC
CREATED:20260425T153237Z
DESCRIPTION:Feuerwehr Illnau-Effretikon/Lindau
DTEND:20260903T200000Z
DTSTAMP:20260425T153237Z
DTSTART:20260903T170000Z
LOCATION:Feuerwehrlokal Effretikon
SEQUENCE:0
SUMMARY:Bewegungsfahrt Gruppe 2 (Fahrer und Maschinisten)
UID:6c5c7423-3452-4cf5-9705-f853022fca4e
END:VEVENT
BEGIN:VEVENT
CLASS:PUBLIC
CREATED:20260425T153237Z
DESCRIPTION:Feuerwehr Illnau-Effretikon/Lindau
DTEND:20260922T200000Z
DTSTAMP:20260425T153237Z
DTSTART:20260922T170000Z
LOCATION:Feuerwehrlokal Effretikon
SEQUENCE:0
SUMMARY:Bewegungsfahrt Gruppe 3 (Fahrer und Maschinisten)
UID:9496219d-c235-4546-80d5-68289b728898
END:VEVENT
BEGIN:VEVENT
CLASS:PUBLIC
CREATED:20260425T153237Z
DESCRIPTION:Feuerwehr Illnau-Effretikon/Lindau
DTEND:20260924T200000Z
DTSTAMP:20260425T153237Z
DTSTART:20260924T170000Z
LOCATION:Feuerwehrlokal Effretikon
SEQUENCE:0
SUMMARY:Bewegungsfahrt Gruppe 4 (Fahrer und Maschinisten)
UID:c8072ce8-82c2-44fb-8524-e98a0eee4fcd
END:VEVENT
BEGIN:VEVENT
CLASS:PUBLIC
CREATED:20260425T153237Z
DESCRIPTION:Feuerwehr Illnau-Effretikon/Lindau
DTEND:20261103T210000Z
DTSTAMP:20260425T153237Z
DTSTART:20261103T180000Z
LOCATION:Feuerwehrlokal Effretikon
SEQUENCE:0
SUMMARY:Bewegungsfahrt Gruppe 1 (Fahrer und Maschinisten)
UID:31dbe02a-bc4c-44e8-b87d-24f2f40a183a
END:VEVENT
BEGIN:VEVENT
CLASS:PUBLIC
CREATED:20260425T153237Z
DESCRIPTION:Feuerwehr Illnau-Effretikon/Lindau
DTEND:20261105T210000Z
DTSTAMP:20260425T153237Z
DTSTART:20261105T180000Z
LOCATION:Feuerwehrlokal Effretikon
SEQUENCE:0
SUMMARY:Bewegungsfahrt Gruppe 2 (Fahrer und Maschinisten)
UID:9a63e4a3-b37e-4679-90bb-2ee1855fb007
END:VEVENT
BEGIN:VEVENT
CLASS:PUBLIC
CREATED:20260425T153237Z
DESCRIPTION:Feuerwehr Illnau-Effretikon/Lindau
DTEND:20261116T210000Z
DTSTAMP:20260425T153237Z
DTSTART:20261116T180000Z
LOCATION:Feuerwehrlokal Effretikon
SEQUENCE:0
SUMMARY:Bewegungsfahrt Gruppe 3 (Fahrer und Maschinisten)
UID:8c42b6ea-58ec-42db-b057-5f097affb717
END:VEVENT
BEGIN:VEVENT
CLASS:PUBLIC
CREATED:20260425T153237Z
DESCRIPTION:Feuerwehr Illnau-Effretikon/Lindau
DTEND:20261120T210000Z
DTSTAMP:20260425T153237Z
DTSTART:20261120T180000Z
LOCATION:Feuerwehrlokal Effretikon
SEQUENCE:0
SUMMARY:Bewegungsfahrt Gruppe 4 (Fahrer und Maschinisten)
UID:2704c9ec-fb8c-4ea6-829c-091de42f5417
END:VEVENT
END:VCALENDAR
