BEGIN:VCALENDAR
PRODID:-//github.com/ical-org/ical.net//NONSGML ical.net 5.2.0//EN
VERSION:2.0
BEGIN:VEVENT
CLASS:PUBLIC
CREATED:20260425T153615Z
DESCRIPTION:Feuerwehr Illnau-Effretikon/Lindau
DTEND:20261111T210000Z
DTSTAMP:20260425T153615Z
DTSTART:20261111T183000Z
LOCATION:Feuerwehrlokal Effretikon
SEQUENCE:0
SUMMARY:Info-Abend für neue AdFs 2026 (Gemäss Aufgebot )
UID:1376749b-08c8-48c5-a7b0-9b0d3f6ac52f
END:VEVENT
BEGIN:VEVENT
CLASS:PUBLIC
CREATED:20260425T153615Z
DESCRIPTION:Feuerwehr Illnau-Effretikon/Lindau
DTEND:20261121T160000Z
DTSTAMP:20260425T153615Z
DTSTART:20261121T120000Z
LOCATION:Feuerwehrlokal Effretikon
SEQUENCE:0
SUMMARY:Jugendfeuerwehr-Übung (Gemäss Aufgebot )
UID:743a9c71-c4a1-4f2b-a428-5cc93ec9909a
END:VEVENT
BEGIN:VEVENT
CLASS:PUBLIC
CREATED:20260425T153615Z
DESCRIPTION:Feuerwehr Illnau-Effretikon/Lindau
DTEND:20261127T210000Z
DTSTAMP:20260425T153615Z
DTSTART:20261127T183000Z
LOCATION:Feuerwehrlokal Effretikon
SEQUENCE:0
SUMMARY:Absprache Ausbildungen FU 2027 (Gemäss Aufgebot )
UID:571ae709-b86b-400b-834b-db45bd0cbecf
END:VEVENT
BEGIN:VEVENT
CLASS:PUBLIC
CREATED:20260425T153615Z
DESCRIPTION:Feuerwehr Illnau-Effretikon/Lindau
DTEND:20261127T210000Z
DTSTAMP:20260425T153615Z
DTSTART:20261127T183000Z
LOCATION:Feuerwehrlokal Effretikon
SEQUENCE:0
SUMMARY:Absprache Ausbildungen VA 2027 (Gemäss Aufgebot )
UID:230a65fa-ee1b-448c-b70f-6ce898b9da74
END:VEVENT
BEGIN:VEVENT
CLASS:PUBLIC
CREATED:20260425T153615Z
DESCRIPTION:Feuerwehr Illnau-Effretikon/Lindau
DTEND:20261201T210000Z
DTSTAMP:20260425T153615Z
DTSTART:20261201T183000Z
LOCATION:Feuerwehrlokal Effretikon
SEQUENCE:0
SUMMARY:Absprache Ausbildungen AS 2027 (Gemäss Aufgebot )
UID:0a473814-7cea-4026-ab2b-55b1c1238afd
END:VEVENT
BEGIN:VEVENT
CLASS:PUBLIC
CREATED:20260425T153615Z
DESCRIPTION:Feuerwehr Illnau-Effretikon/Lindau
DTEND:20261203T210000Z
DTSTAMP:20260425T153615Z
DTSTART:20261203T183000Z
LOCATION:Feuerwehrlokal Effretikon
SEQUENCE:0
SUMMARY:Absprache Ausbildungen ADL 2027 (Gemäss Aufgebot )
UID:675acd10-ab8c-46b7-9bb4-e246beed70d5
END:VEVENT
END:VCALENDAR
