BEGIN:VCALENDAR
PRODID:-//github.com/ical-org/ical.net//NONSGML ical.net 5.2.0//EN
VERSION:2.0
BEGIN:VEVENT
CLASS:PUBLIC
CREATED:20260425T154018Z
DESCRIPTION:Feuerwehr Illnau-Effretikon/Lindau
DTEND:20260613T150000Z
DTSTAMP:20260425T154018Z
DTSTART:20260613T113000Z
LOCATION:Feuerwehrlokal Effretikon
SEQUENCE:0
SUMMARY:Übung in Hittnau (Jugendfeuerwehr)
UID:bab4b1b3-b545-4a79-a2a8-82b0e31513af
END:VEVENT
BEGIN:VEVENT
CLASS:PUBLIC
CREATED:20260425T154018Z
DESCRIPTION:Feuerwehr Illnau-Effretikon/Lindau
DTEND:20260926T150000Z
DTSTAMP:20260425T154018Z
DTSTART:20260926T113000Z
LOCATION:Feuerwehrlokal Effretikon
SEQUENCE:0
SUMMARY:Übung in Pfäffikon (Jugendfeuerwehr)
UID:dffa7fa4-619b-416c-8ea7-5f82a5b3ac48
END:VEVENT
BEGIN:VEVENT
CLASS:PUBLIC
CREATED:20260425T154018Z
DESCRIPTION:Feuerwehr Illnau-Effretikon/Lindau
DTEND:20261024T150000Z
DTSTAMP:20260425T154018Z
DTSTART:20261024T113000Z
LOCATION:Feuerwehrlokal Effretikon
SEQUENCE:0
SUMMARY:Übung in Weisslingen (Jugendfeuerwehr)
UID:15a4d053-270b-4be4-8f5a-7229c87c6126
END:VEVENT
BEGIN:VEVENT
CLASS:PUBLIC
CREATED:20260425T154018Z
DESCRIPTION:Feuerwehr Illnau-Effretikon/Lindau
DTEND:20261121T160000Z
DTSTAMP:20260425T154018Z
DTSTART:20261121T123000Z
LOCATION:Feuerwehrlokal Effretikon
SEQUENCE:0
SUMMARY:Einsatzübung in Effretikon (Jugendfeuerwehr)
UID:9a040f21-9051-4da0-989c-154c565a65e8
END:VEVENT
END:VCALENDAR
