BEGIN:VCALENDAR
PRODID:-//github.com/ical-org/ical.net//NONSGML ical.net 5.2.0//EN
VERSION:2.0
BEGIN:VEVENT
CLASS:PUBLIC
CREATED:20260425T152038Z
DESCRIPTION:Feuerwehr Illnau-Effretikon/Lindau
DTEND:20260506T200000Z
DTSTAMP:20260425T152038Z
DTSTART:20260506T173000Z
LOCATION:Feuerwehrlokal Effretikon
SEQUENCE:0
SUMMARY:1. Kaderrapport (Kader)
UID:e98cfabe-1150-4c6d-931f-3dd4bbebabbe
END:VEVENT
BEGIN:VEVENT
CLASS:PUBLIC
CREATED:20260425T152038Z
DESCRIPTION:Feuerwehr Illnau-Effretikon/Lindau
DTEND:20260520T200000Z
DTSTAMP:20260425T152038Z
DTSTART:20260520T173000Z
LOCATION:Feuerwehrlokal Effretikon
SEQUENCE:0
SUMMARY:4 Kaderübung (Kader)
UID:2c21b888-a09b-45f8-8ddf-8c139edd56cd
END:VEVENT
BEGIN:VEVENT
CLASS:PUBLIC
CREATED:20260425T152038Z
DESCRIPTION:Feuerwehr Illnau-Effretikon/Lindau
DTEND:20260610T200000Z
DTSTAMP:20260425T152038Z
DTSTART:20260610T173000Z
LOCATION:Feuerwehrlokal Effretikon
SEQUENCE:0
SUMMARY:5 PBU Konzept\, gross (Kader)
UID:3b906363-6acd-4b70-97c7-a7efe6c319d9
END:VEVENT
BEGIN:VEVENT
CLASS:PUBLIC
CREATED:20260425T152038Z
DESCRIPTION:Feuerwehr Illnau-Effretikon/Lindau
DTEND:20260831T200000Z
DTSTAMP:20260425T152038Z
DTSTART:20260831T173000Z
LOCATION:Feuerwehrlokal Effretikon
SEQUENCE:0
SUMMARY:6 Gebäudebeurteilung (Kader)
UID:499b22f7-dbf6-4284-ade9-e65532f0a229
END:VEVENT
BEGIN:VEVENT
CLASS:PUBLIC
CREATED:20260425T152038Z
DESCRIPTION:Feuerwehr Illnau-Effretikon/Lindau
DTEND:20260902T200000Z
DTSTAMP:20260425T152038Z
DTSTART:20260902T173000Z
LOCATION:Feuerwehrlokal Effretikon
SEQUENCE:0
SUMMARY:2. Kaderrapport (Kader)
UID:59dd091d-b90f-416c-bbd3-79c07e155927
END:VEVENT
BEGIN:VEVENT
CLASS:PUBLIC
CREATED:20260425T152038Z
DESCRIPTION:Feuerwehr Illnau-Effretikon/Lindau
DTEND:20260923T200000Z
DTSTAMP:20260425T152038Z
DTSTART:20260923T173000Z
LOCATION:Feuerwehrlokal Effretikon
SEQUENCE:0
SUMMARY:7 Befehlsgebung und Führungsinstrumente (Kader)
UID:9f71f371-9aca-41ad-8f8e-cd5891292652
END:VEVENT
BEGIN:VEVENT
CLASS:PUBLIC
CREATED:20260425T152038Z
DESCRIPTION:Feuerwehr Illnau-Effretikon/Lindau
DTEND:20261031T110000Z
DTSTAMP:20260425T152038Z
DTSTART:20261031T063000Z
LOCATION:Feuerwehrlokal Effretikon
SEQUENCE:0
SUMMARY:8 Kadertag (Kader)
UID:ef041095-c15b-4c42-9dbf-da6c85280ad3
END:VEVENT
BEGIN:VEVENT
CLASS:PUBLIC
CREATED:20260425T152038Z
DESCRIPTION:Feuerwehr Illnau-Effretikon/Lindau
DTEND:20261118T210000Z
DTSTAMP:20260425T152038Z
DTSTART:20261118T183000Z
LOCATION:Feuerwehrlokal Effretikon
SEQUENCE:0
SUMMARY:9 Übungsvorbereitung 2027 (Kader)
UID:c59e7580-b7d0-4534-bee4-9f91f415b1bd
END:VEVENT
END:VCALENDAR
