BEGIN:VCALENDAR
PRODID:-//github.com/ical-org/ical.net//NONSGML ical.net 5.2.0//EN
VERSION:2.0
BEGIN:VEVENT
CLASS:PUBLIC
CREATED:20260425T152054Z
DESCRIPTION:Feuerwehr Illnau-Effretikon/Lindau
DTEND:20260617T160000Z
DTSTAMP:20260425T152054Z
DTSTART:20260617T140000Z
LOCATION:Feuerwehrlokal Effretikon
SEQUENCE:0
SUMMARY:3. Kdo Rapport (Kdo)
UID:ca623969-523f-4d49-ae3a-35bca75531a3
END:VEVENT
BEGIN:VEVENT
CLASS:PUBLIC
CREATED:20260425T152054Z
DESCRIPTION:Feuerwehr Illnau-Effretikon/Lindau
DTEND:20260819T160000Z
DTSTAMP:20260425T152054Z
DTSTART:20260819T140000Z
LOCATION:Feuerwehrlokal Effretikon
SEQUENCE:0
SUMMARY:4. Kdo Rapport (Kdo)
UID:8c35a9a0-24e1-4b6d-aaba-46406e2ff6bd
END:VEVENT
BEGIN:VEVENT
CLASS:PUBLIC
CREATED:20260425T152054Z
DESCRIPTION:Feuerwehr Illnau-Effretikon/Lindau
DTEND:20261021T160000Z
DTSTAMP:20260425T152054Z
DTSTART:20261021T140000Z
LOCATION:Feuerwehrlokal Effretikon
SEQUENCE:0
SUMMARY:5. Kdo Rapport (Kdo)
UID:2ead940c-364a-41b8-a007-60cae1e30e74
END:VEVENT
BEGIN:VEVENT
CLASS:PUBLIC
CREATED:20260425T152054Z
DESCRIPTION:Feuerwehr Illnau-Effretikon/Lindau
DTEND:20261125T170000Z
DTSTAMP:20260425T152054Z
DTSTART:20261125T150000Z
LOCATION:Feuerwehrlokal Effretikon
SEQUENCE:0
SUMMARY:6. Kdo Rapport (Kdo)
UID:afac5a41-3b7b-4a0a-805e-40362b8882f3
END:VEVENT
END:VCALENDAR
