BEGIN:VCALENDAR
PRODID:-//github.com/ical-org/ical.net//NONSGML ical.net 5.2.0//EN
VERSION:2.0
BEGIN:VEVENT
CLASS:PUBLIC
CREATED:20260425T152155Z
DESCRIPTION:Feuerwehr Illnau-Effretikon/Lindau
DTEND:20260627T100000Z
DTSTAMP:20260425T152155Z
DTSTART:20260627T053000Z
LOCATION:Feuerwehrlokal Effretikon
SEQUENCE:0
SUMMARY:2 EFU/BF-Drill/WarGaming (Offiziere)
UID:6e5643d3-ee2d-41dc-9a42-4a7e3f89b16c
END:VEVENT
BEGIN:VEVENT
CLASS:PUBLIC
CREATED:20260425T152155Z
DESCRIPTION:Feuerwehr Illnau-Effretikon/Lindau
DTEND:20260818T200000Z
DTSTAMP:20260425T152155Z
DTSTART:20260818T173000Z
LOCATION:Feuerwehrlokal Effretikon
SEQUENCE:0
SUMMARY:3 Duale Führung (Offiziere)
UID:dd271940-71ec-42d3-9267-f28852415c7d
END:VEVENT
BEGIN:VEVENT
CLASS:PUBLIC
CREATED:20260425T152155Z
DESCRIPTION:Feuerwehr Illnau-Effretikon/Lindau
DTEND:20261104T210000Z
DTSTAMP:20260425T152155Z
DTSTART:20261104T183000Z
LOCATION:Feuerwehrlokal Effretikon
SEQUENCE:0
SUMMARY:4 Jahresbilanz und Besprechung (Offiziere)
UID:b993fb53-6fc5-4ad8-8b94-54a28c723077
END:VEVENT
END:VCALENDAR
