BEGIN:VCALENDAR
PRODID:-//github.com/ical-org/ical.net//NONSGML ical.net 5.2.0//EN
VERSION:2.0
BEGIN:VEVENT
CLASS:PUBLIC
CREATED:20260425T153851Z
DESCRIPTION:Feuerwehr Illnau-Effretikon/Lindau
DTEND:20260822T150000Z
DTSTAMP:20260425T153851Z
DTSTART:20260822T053000Z
LOCATION:Feuerwehrlokal Effretikon
SEQUENCE:0
SUMMARY:1 SRT Samstagsübung (SRT-Gruppe)
UID:a8239c55-d306-4990-9377-245595465cbf
END:VEVENT
END:VCALENDAR
