BEGIN:VCALENDAR
PRODID:-//github.com/ical-org/ical.net//NONSGML ical.net 5.2.0//EN
VERSION:2.0
BEGIN:VEVENT
CLASS:PUBLIC
CREATED:20260425T152604Z
DESCRIPTION:Feuerwehr Illnau-Effretikon/Lindau
DTEND:20260519T173000Z
DTSTAMP:20260425T152604Z
DTSTART:20260519T150000Z
LOCATION:Feuerwehrlokal Effretikon
SEQUENCE:0
SUMMARY:3 Winken (Verkehrsgruppe)
UID:b2c81392-e7c5-43fa-8473-69635285d8ec
END:VEVENT
BEGIN:VEVENT
CLASS:PUBLIC
CREATED:20260425T152604Z
DESCRIPTION:Feuerwehr Illnau-Effretikon/Lindau
DTEND:20260707T200000Z
DTSTAMP:20260425T152604Z
DTSTART:20260707T173000Z
LOCATION:Feuerwehrlokal Effretikon
SEQUENCE:0
SUMMARY:5 Kleineinsätze  (Verkehrsgruppe)
UID:cfeb293c-40f9-49c3-a355-9f56785bd1c7
END:VEVENT
BEGIN:VEVENT
CLASS:PUBLIC
CREATED:20260425T152604Z
DESCRIPTION:Feuerwehr Illnau-Effretikon/Lindau
DTEND:20260910T200000Z
DTSTAMP:20260425T152604Z
DTSTART:20260910T173000Z
LOCATION:Feuerwehrlokal Effretikon
SEQUENCE:0
SUMMARY:6  VA-FU (Verkehrsgruppe)
UID:5c2ad4a2-9432-4e48-8999-36ba61e7c09b
END:VEVENT
BEGIN:VEVENT
CLASS:PUBLIC
CREATED:20260425T152604Z
DESCRIPTION:Feuerwehr Illnau-Effretikon/Lindau
DTEND:20261020T200000Z
DTSTAMP:20260425T152604Z
DTSTART:20261020T173000Z
LOCATION:Feuerwehrlokal Effretikon
SEQUENCE:0
SUMMARY:7 Autobahn (Verkehrsgruppe)
UID:4788d55f-cee7-4620-9e6c-fd9ddd32ce7a
END:VEVENT
BEGIN:VEVENT
CLASS:PUBLIC
CREATED:20260425T152604Z
DESCRIPTION:Feuerwehr Illnau-Effretikon/Lindau
DTEND:20261124T210000Z
DTSTAMP:20260425T152604Z
DTSTART:20261124T183000Z
LOCATION:Feuerwehrlokal Effretikon
SEQUENCE:0
SUMMARY:8 Spezialübung (Verkehrsgruppe)
UID:3a381e87-252c-4533-873f-aff7d929ff15
END:VEVENT
END:VCALENDAR
