BEGIN:VCALENDAR
PRODID:-//github.com/ical-org/ical.net//NONSGML ical.net 5.2.0//EN
VERSION:2.0
BEGIN:VEVENT
CLASS:PUBLIC
CREATED:20260425T152303Z
DESCRIPTION:Feuerwehr Illnau-Effretikon/Lindau
DTEND:20260505T200000Z
DTSTAMP:20260425T152303Z
DTSTART:20260505T173000Z
LOCATION:Feuerwehrlokal Effretikon
SEQUENCE:0
SUMMARY:8 Atemschutz (Zug 1)
UID:7eb1ed21-32ab-4475-b84f-958113a7b5e1
END:VEVENT
BEGIN:VEVENT
CLASS:PUBLIC
CREATED:20260425T152303Z
DESCRIPTION:Feuerwehr Illnau-Effretikon/Lindau
DTEND:20260601T200000Z
DTSTAMP:20260425T152303Z
DTSTART:20260601T173000Z
LOCATION:Feuerwehrlokal Effretikon
SEQUENCE:0
SUMMARY:9 Pionier mit JFW (Zug 1)
UID:e744fd07-bb2f-42f4-8d11-2a5750cc27cf
END:VEVENT
BEGIN:VEVENT
CLASS:PUBLIC
CREATED:20260425T152303Z
DESCRIPTION:Feuerwehr Illnau-Effretikon/Lindau
DTEND:20260607T150000Z
DTSTAMP:20260425T152303Z
DTSTART:20260605T060000Z
LOCATION:Feuerwehrlokal Effretikon
SEQUENCE:0
SUMMARY:Reise Zug 1 (Zug 1)
UID:2680e89a-79e7-48b5-a29c-466c399a2dfc
END:VEVENT
BEGIN:VEVENT
CLASS:PUBLIC
CREATED:20260425T152303Z
DESCRIPTION:Feuerwehr Illnau-Effretikon/Lindau
DTEND:20260612T200000Z
DTSTAMP:20260425T152303Z
DTSTART:20260612T173000Z
LOCATION:Feuerwehrlokal Effretikon
SEQUENCE:0
SUMMARY:10 Einsatzübung Wassertransport mit JFW (Zug 1)
UID:d469976a-f341-4d04-9515-f2cef4453d40
END:VEVENT
BEGIN:VEVENT
CLASS:PUBLIC
CREATED:20260425T152303Z
DESCRIPTION:Feuerwehr Illnau-Effretikon/Lindau
DTEND:20260622T200000Z
DTSTAMP:20260425T152303Z
DTSTART:20260622T173000Z
LOCATION:Feuerwehrlokal Effretikon
SEQUENCE:0
SUMMARY:11 «PBU» Übungen mit JFW (Zug 1)
UID:f8d11888-963f-4b77-8be0-e15fe3c0501f
END:VEVENT
BEGIN:VEVENT
CLASS:PUBLIC
CREATED:20260425T152303Z
DESCRIPTION:Feuerwehr Illnau-Effretikon/Lindau
DTEND:20260827T200000Z
DTSTAMP:20260425T152303Z
DTSTART:20260827T173000Z
LOCATION:Feuerwehrlokal Effretikon
SEQUENCE:0
SUMMARY:13 Atemschutz (Zug 1)
UID:d6417ea0-e922-474d-b2f4-20b62dd3d788
END:VEVENT
BEGIN:VEVENT
CLASS:PUBLIC
CREATED:20260425T152303Z
DESCRIPTION:Feuerwehr Illnau-Effretikon/Lindau
DTEND:20260915T200000Z
DTSTAMP:20260425T152303Z
DTSTART:20260915T173000Z
LOCATION:Feuerwehrlokal Effretikon
SEQUENCE:0
SUMMARY:14 Kleineinsätze inkl. AS (Zug 1)
UID:0d70f640-eec1-4b40-a6e3-1a59f824bd5c
END:VEVENT
BEGIN:VEVENT
CLASS:PUBLIC
CREATED:20260425T152303Z
DESCRIPTION:Feuerwehr Illnau-Effretikon/Lindau
DTEND:20260928T200000Z
DTSTAMP:20260425T152303Z
DTSTART:20260928T173000Z
LOCATION:Feuerwehrlokal Effretikon
SEQUENCE:0
SUMMARY:15 Unwetter (Zug 1)
UID:127e619a-e17e-4889-a668-9c947a4941af
END:VEVENT
BEGIN:VEVENT
CLASS:PUBLIC
CREATED:20260425T152303Z
DESCRIPTION:Feuerwehr Illnau-Effretikon/Lindau
DTEND:20261107T220000Z
DTSTAMP:20260425T152303Z
DTSTART:20261107T123000Z
LOCATION:Feuerwehrlokal Effretikon
SEQUENCE:0
SUMMARY:Plauschnachmittag (Zug 1)
UID:bf339bf6-8b12-44f5-a52f-aa23d8d942ab
END:VEVENT
BEGIN:VEVENT
CLASS:PUBLIC
CREATED:20260425T152303Z
DESCRIPTION:Feuerwehr Illnau-Effretikon/Lindau
DTEND:20261113T210000Z
DTSTAMP:20260425T152303Z
DTSTART:20261113T183000Z
LOCATION:Feuerwehrlokal Effretikon
SEQUENCE:0
SUMMARY:16 Leitern und ADL-Korb (Inkl. Feedback im Zug) (Zug 1)
UID:221cf866-2935-48b8-849a-8fb72d5aaeda
END:VEVENT
END:VCALENDAR
