BEGIN:VCALENDAR
PRODID:-//github.com/ical-org/ical.net//NONSGML ical.net 5.2.0//EN
VERSION:2.0
BEGIN:VEVENT
CLASS:PUBLIC
CREATED:20260425T152303Z
DESCRIPTION:Feuerwehr Illnau-Effretikon/Lindau
DTEND:20260507T200000Z
DTSTAMP:20260425T152303Z
DTSTART:20260507T173000Z
LOCATION:Feuerwehrlokal Effretikon
SEQUENCE:0
SUMMARY:8 Atemschutz (Zug 2)
UID:5e853efc-49e1-494f-b4a3-c5d3c5f4eb34
END:VEVENT
BEGIN:VEVENT
CLASS:PUBLIC
CREATED:20260425T152303Z
DESCRIPTION:Feuerwehr Illnau-Effretikon/Lindau
DTEND:20260527T200000Z
DTSTAMP:20260425T152303Z
DTSTART:20260527T173000Z
LOCATION:Feuerwehrlokal Effretikon
SEQUENCE:0
SUMMARY:9 Pionier mit JFW (Zug 2)
UID:f061ad5a-f8f6-4f5c-ba7e-99cef46180a8
END:VEVENT
BEGIN:VEVENT
CLASS:PUBLIC
CREATED:20260425T152303Z
DESCRIPTION:Feuerwehr Illnau-Effretikon/Lindau
DTEND:20260617T200000Z
DTSTAMP:20260425T152303Z
DTSTART:20260617T173000Z
LOCATION:Feuerwehrlokal Effretikon
SEQUENCE:0
SUMMARY:10 Einsatzübung Wassertransport mit JFW (Zug 2)
UID:5a3f7985-b35c-4b5d-ab6e-6766bba4d9a9
END:VEVENT
BEGIN:VEVENT
CLASS:PUBLIC
CREATED:20260425T152303Z
DESCRIPTION:Feuerwehr Illnau-Effretikon/Lindau
DTEND:20260624T200000Z
DTSTAMP:20260425T152303Z
DTSTART:20260624T173000Z
LOCATION:Feuerwehrlokal Effretikon
SEQUENCE:0
SUMMARY:11 «PBU» Übungen mit JFW (Zug 2)
UID:cc85dbf7-0de5-4d5f-bc52-e3c10460792f
END:VEVENT
BEGIN:VEVENT
CLASS:PUBLIC
CREATED:20260425T152303Z
DESCRIPTION:Feuerwehr Illnau-Effretikon/Lindau
DTEND:20260820T200000Z
DTSTAMP:20260425T152303Z
DTSTART:20260820T173000Z
LOCATION:Feuerwehrlokal Effretikon
SEQUENCE:0
SUMMARY:13 Atemschutz (Zug 2)
UID:304970c3-a54a-4e49-ba42-fe877195a745
END:VEVENT
BEGIN:VEVENT
CLASS:PUBLIC
CREATED:20260425T152303Z
DESCRIPTION:Feuerwehr Illnau-Effretikon/Lindau
DTEND:20260917T200000Z
DTSTAMP:20260425T152303Z
DTSTART:20260917T173000Z
LOCATION:Feuerwehrlokal Effretikon
SEQUENCE:0
SUMMARY:14 Kleineinsätze inkl. AS (Zug 2)
UID:0171a32f-0ad5-4140-a9a2-1edb7ba3e738
END:VEVENT
BEGIN:VEVENT
CLASS:PUBLIC
CREATED:20260425T152303Z
DESCRIPTION:Feuerwehr Illnau-Effretikon/Lindau
DTEND:20260930T200000Z
DTSTAMP:20260425T152303Z
DTSTART:20260930T173000Z
LOCATION:Feuerwehrlokal Effretikon
SEQUENCE:0
SUMMARY:15 Unwetter (Zug 2)
UID:6106f571-1398-4775-8749-1d465674da1d
END:VEVENT
BEGIN:VEVENT
CLASS:PUBLIC
CREATED:20260425T152303Z
DESCRIPTION:Feuerwehr Illnau-Effretikon/Lindau
DTEND:20261028T210000Z
DTSTAMP:20260425T152303Z
DTSTART:20261028T183000Z
LOCATION:Feuerwehrlokal Effretikon
SEQUENCE:0
SUMMARY:16 Leitern und ADL-Korb (Inkl. Feedback im Zug) (Zug 2)
UID:aba76c31-79c5-43f4-a1f1-82bdb1663fc3
END:VEVENT
END:VCALENDAR
