BEGIN:VCALENDAR
PRODID:-//github.com/ical-org/ical.net//NONSGML ical.net 5.2.0//EN
VERSION:2.0
BEGIN:VEVENT
CLASS:PUBLIC
CREATED:20260425T152318Z
DESCRIPTION:Feuerwehr Illnau-Effretikon/Lindau
DTEND:20260512T200000Z
DTSTAMP:20260425T152318Z
DTSTART:20260512T173000Z
LOCATION:Feuerwehrlokal Effretikon
SEQUENCE:0
SUMMARY:8 Atemschutz (Zug 3)
UID:e711d8f9-9004-4414-8168-7648aa2b29d4
END:VEVENT
BEGIN:VEVENT
CLASS:PUBLIC
CREATED:20260425T152318Z
DESCRIPTION:Feuerwehr Illnau-Effretikon/Lindau
DTEND:20260529T200000Z
DTSTAMP:20260425T152318Z
DTSTART:20260529T173000Z
LOCATION:Feuerwehrlokal Effretikon
SEQUENCE:0
SUMMARY:9 Pionier mit JFW (Zug 3)
UID:3bb23223-9d99-4d03-9e50-ad4268da9b3a
END:VEVENT
BEGIN:VEVENT
CLASS:PUBLIC
CREATED:20260425T152318Z
DESCRIPTION:Feuerwehr Illnau-Effretikon/Lindau
DTEND:20260608T200000Z
DTSTAMP:20260425T152318Z
DTSTART:20260608T173000Z
LOCATION:Feuerwehrlokal Effretikon
SEQUENCE:0
SUMMARY:10 Einsatzübung Wassertransport mit JFW (Zug 3)
UID:e6b789ca-205f-423a-850e-7143897fc75c
END:VEVENT
BEGIN:VEVENT
CLASS:PUBLIC
CREATED:20260425T152318Z
DESCRIPTION:Feuerwehr Illnau-Effretikon/Lindau
DTEND:20260630T200000Z
DTSTAMP:20260425T152318Z
DTSTART:20260630T173000Z
LOCATION:Feuerwehrlokal Effretikon
SEQUENCE:0
SUMMARY:11 «PBU» Übungen mit JFW (Zug 3)
UID:782684ec-2793-49f1-a975-0ee2c2f1f3ab
END:VEVENT
BEGIN:VEVENT
CLASS:PUBLIC
CREATED:20260425T152318Z
DESCRIPTION:Feuerwehr Illnau-Effretikon/Lindau
DTEND:20260825T200000Z
DTSTAMP:20260425T152318Z
DTSTART:20260825T173000Z
LOCATION:Feuerwehrlokal Effretikon
SEQUENCE:0
SUMMARY:13 Atemschutz (Zug 3)
UID:11a6dcf0-fd50-4d65-9423-003f0c2ed436
END:VEVENT
BEGIN:VEVENT
CLASS:PUBLIC
CREATED:20260425T152318Z
DESCRIPTION:Feuerwehr Illnau-Effretikon/Lindau
DTEND:20260908T200000Z
DTSTAMP:20260425T152318Z
DTSTART:20260908T173000Z
LOCATION:Feuerwehrlokal Effretikon
SEQUENCE:0
SUMMARY:14 Kleineinsätze inkl. AS (Zug 3)
UID:ea401057-eb35-4f6c-8d47-52d955ba48af
END:VEVENT
BEGIN:VEVENT
CLASS:PUBLIC
CREATED:20260425T152318Z
DESCRIPTION:Feuerwehr Illnau-Effretikon/Lindau
DTEND:20261001T200000Z
DTSTAMP:20260425T152318Z
DTSTART:20261001T173000Z
LOCATION:Feuerwehrlokal Effretikon
SEQUENCE:0
SUMMARY:15 Unwetter (Zug 3)
UID:18c5ddf6-3055-4a66-a8b1-1df25ac49a2e
END:VEVENT
BEGIN:VEVENT
CLASS:PUBLIC
CREATED:20260425T152318Z
DESCRIPTION:Feuerwehr Illnau-Effretikon/Lindau
DTEND:20261110T210000Z
DTSTAMP:20260425T152318Z
DTSTART:20261110T183000Z
LOCATION:Feuerwehrlokal Effretikon
SEQUENCE:0
SUMMARY:16 Leitern und ADL-Korb (Inkl. Feedback im Zug) (Zug 3)
UID:24832114-47b2-4cab-b365-b24e74b8326b
END:VEVENT
END:VCALENDAR
