BEGIN:VCALENDAR
PRODID:-//github.com/ical-org/ical.net//NONSGML ical.net 5.2.0//EN
VERSION:2.0
BEGIN:VEVENT
CLASS:PUBLIC
CREATED:20260425T152747Z
DESCRIPTION:Feuerwehr Illnau-Effretikon/Lindau
DTEND:20260701T200000Z
DTSTAMP:20260425T152747Z
DTSTART:20260701T173000Z
LOCATION:Feuerwehrlokal Effretikon
SEQUENCE:0
SUMMARY:3. Führungsrapport (Zug- und Gruppenchef)
UID:4db27e83-aaf2-4c29-9077-12fe17647ffe
END:VEVENT
BEGIN:VEVENT
CLASS:PUBLIC
CREATED:20260425T152747Z
DESCRIPTION:Feuerwehr Illnau-Effretikon/Lindau
DTEND:20261208T210000Z
DTSTAMP:20260425T152747Z
DTSTART:20261208T183000Z
LOCATION:Feuerwehrlokal Effretikon
SEQUENCE:0
SUMMARY:4. Führungsrapport (Zug- und Gruppenchef)
UID:fa56097e-8642-44d2-bd27-bb5ce383f27b
END:VEVENT
END:VCALENDAR
