BEGIN:VCALENDAR
PRODID:-//github.com/ical-org/ical.net//NONSGML ical.net 5.2.0//EN
VERSION:2.0
BEGIN:VEVENT
CLASS:PUBLIC
CREATED:20260425T152731Z
DESCRIPTION:Feuerwehr Illnau-Effretikon/Lindau
DTEND:20260519T200000Z
DTSTAMP:20260425T152731Z
DTSTART:20260519T173000Z
LOCATION:Feuerwehrlokal Effretikon
SEQUENCE:0
SUMMARY:2 Bagatellnotfälle (Zugssanitäter)
UID:03af6ed2-101d-4d65-9f8a-259a5bacf887
END:VEVENT
BEGIN:VEVENT
CLASS:PUBLIC
CREATED:20260425T152731Z
DESCRIPTION:Feuerwehr Illnau-Effretikon/Lindau
DTEND:20260910T200000Z
DTSTAMP:20260425T152731Z
DTSTART:20260910T173000Z
LOCATION:Feuerwehrlokal Effretikon
SEQUENCE:0
SUMMARY:3 Vitalbedrohliche Notfälle (Zugssanitäter)
UID:2dd6b0d5-bb9d-4fc0-87a3-1fa148cd7e7a
END:VEVENT
BEGIN:VEVENT
CLASS:PUBLIC
CREATED:20260425T152731Z
DESCRIPTION:Feuerwehr Illnau-Effretikon/Lindau
DTEND:20261124T210000Z
DTSTAMP:20260425T152731Z
DTSTART:20261124T183000Z
LOCATION:Feuerwehrlokal Effretikon
SEQUENCE:0
SUMMARY:4 Spezielle Notfälle (Zugssanitäter)
UID:ecbda437-723d-4d7f-8d3f-f47f01aa38b3
END:VEVENT
END:VCALENDAR
